BEGIN:VCALENDAR
VERSION:2.0
PRODID:-//time.you/holidays//NONSGML v1.0//EN
BEGIN:VEVENT
UID:580ec610-62ff-476e-bd86-c3987f51c0b9
DTSTAMP:20260423T201715Z
DTSTART;VALUE=DATE:20250128
SUMMARY:Isra' and Mi'raj (Iran)
END:VEVENT
END:VCALENDAR