BEGIN:VCALENDAR
VERSION:2.0
PRODID:-//time.you/holidays//NONSGML v1.0//EN
BEGIN:VEVENT
UID:755a3dde-1223-4e6f-b15e-77e44c24136e
DTSTAMP:20260421T223931Z
DTSTART;VALUE=DATE:20250824
SUMMARY:Martyrdom of Ali al-Rida (Iran)
END:VEVENT
END:VCALENDAR