BEGIN:VCALENDAR
VERSION:2.0
PRODID:-//time.you/holidays//NONSGML v1.0//EN
BEGIN:VEVENT
UID:7650112e-8242-4e05-8c91-3102ccb4a628
DTSTAMP:20260421T145530Z
DTSTART;VALUE=DATE:20261114
SUMMARY:Martyrdom of Fatima (estimated) (Iran)
END:VEVENT
END:VCALENDAR