BEGIN:VCALENDAR
VERSION:2.0
PRODID:-//time.you/holidays//NONSGML v1.0//EN
BEGIN:VEVENT
UID:eb8ebd2c-e983-4c39-a5a0-985bbcca7636
DTSTAMP:20260422T071433Z
DTSTART;VALUE=DATE:20230412
SUMMARY:Martyrdom of Imam Ali (Iran)
END:VEVENT
END:VCALENDAR