BEGIN:VCALENDAR
VERSION:2.0
PRODID:-//time.you/holidays//NONSGML v1.0//EN
BEGIN:VEVENT
UID:b575dc04-1c92-440b-a36f-da82e2469937
DTSTAMP:20260422T073913Z
DTSTART;VALUE=DATE:20260414
SUMMARY:Martyrdom of Imam Ja'far al-Sadiq (estimated) (Iran)
END:VEVENT
END:VCALENDAR