BEGIN:VCALENDAR
VERSION:2.0
PRODID:-//time.you/holidays//NONSGML v1.0//EN
BEGIN:VEVENT
UID:4b09e0f4-e720-4f68-b399-de46251f2ed2
DTSTAMP:20260419T204557Z
DTSTART;VALUE=DATE:20260625
SUMMARY:Tasua (estimated) (Iran)
END:VEVENT
END:VCALENDAR