BEGIN:VCALENDAR
VERSION:2.0
PRODID:-//time.you/holidays//NONSGML v1.0//EN
BEGIN:VEVENT
UID:824b3fe4-2d43-41b8-bf2c-af061c414baf
DTSTAMP:20260420T170917Z
DTSTART;VALUE=DATE:20250705
SUMMARY:Tasua (Iran)
END:VEVENT
END:VCALENDAR