BEGIN:VCALENDAR
VERSION:2.0
PRODID:-//time.you/holidays//NONSGML v1.0//EN
BEGIN:VEVENT
UID:81a66f2a-0a25-4b61-b499-027c9b118c8a
DTSTAMP:20260420T090232Z
DTSTART;VALUE=DATE:20250705
SUMMARY:Ashura (Iraq)
END:VEVENT
END:VCALENDAR