BEGIN:VCALENDAR
VERSION:2.0
PRODID:-//time.you/holidays//NONSGML v1.0//EN
BEGIN:VEVENT
UID:e964946c-a0d3-4e12-9028-e029b1ef8728
DTSTAMP:20260420T015314Z
DTSTART;VALUE=DATE:20260527
SUMMARY:Eid al-Adha (estimated) (Iraq)
END:VEVENT
END:VCALENDAR