BEGIN:VCALENDAR
VERSION:2.0
PRODID:-//time.you/holidays//NONSGML v1.0//EN
BEGIN:VEVENT
UID:5bac0ad9-6aeb-4b09-80b6-8a675341e9cf
DTSTAMP:20260422T034136Z
DTSTART;VALUE=DATE:20250606
SUMMARY:Eid al-Adha (Iraq)
END:VEVENT
END:VCALENDAR