BEGIN:VCALENDAR
VERSION:2.0
PRODID:-//time.you/holidays//NONSGML v1.0//EN
BEGIN:VEVENT
UID:05731a4b-ff51-409a-95e6-2eadb3484287
DTSTAMP:20260424T085438Z
DTSTART;VALUE=DATE:20250331
SUMMARY:Eid al-Fitr (Iraq)
END:VEVENT
END:VCALENDAR