BEGIN:VCALENDAR
VERSION:2.0
PRODID:-//time.you/holidays//NONSGML v1.0//EN
BEGIN:VEVENT
UID:9ec0b5d6-2f7e-4cd3-b1e1-0263a175ed48
DTSTAMP:20260420T154417Z
DTSTART;VALUE=DATE:20260604
SUMMARY:Eid al-Ghadir (estimated) (Iraq)
END:VEVENT
END:VCALENDAR