BEGIN:VCALENDAR
VERSION:2.0
PRODID:-//time.you/holidays//NONSGML v1.0//EN
BEGIN:VEVENT
UID:04b2f934-3aca-4bb2-95ab-bb7df1588d9f
DTSTAMP:20260421T225245Z
DTSTART;VALUE=DATE:20250615
SUMMARY:Eid al-Ghadir (Iraq)
END:VEVENT
END:VCALENDAR