BEGIN:VCALENDAR
VERSION:2.0
PRODID:-//time.you/holidays//NONSGML v1.0//EN
BEGIN:VEVENT
UID:328c5331-027f-4a3e-bd89-b44a6acd6b69
DTSTAMP:20260421T122733Z
DTSTART;VALUE=DATE:20240208
SUMMARY:February 8 Revolution (Iraq)
END:VEVENT
END:VCALENDAR