BEGIN:VCALENDAR
VERSION:2.0
PRODID:-//time.you/holidays//NONSGML v1.0//EN
BEGIN:VEVENT
UID:af387d09-209f-4648-917c-3748b212e1e2
DTSTAMP:20260421T185837Z
DTSTART;VALUE=DATE:20230714
SUMMARY:July 14 Revolution (Iraq)
END:VEVENT
END:VCALENDAR