BEGIN:VCALENDAR
VERSION:2.0
PRODID:-//time.you/holidays//NONSGML v1.0//EN
BEGIN:VEVENT
UID:c78854d4-9c3f-4600-a5a9-d720d71208f6
DTSTAMP:20260421T220825Z
DTSTART;VALUE=DATE:20230717
SUMMARY:July 17 Revolution (Iraq)
END:VEVENT
END:VCALENDAR