BEGIN:VCALENDAR
VERSION:2.0
PRODID:-//time.you/holidays//NONSGML v1.0//EN
BEGIN:VEVENT
UID:8a3c5e16-344a-49e2-8888-3801407fecc4
DTSTAMP:20260423T154615Z
DTSTART;VALUE=DATE:20260501
SUMMARY:Labor Day (Iraq)
END:VEVENT
END:VCALENDAR