BEGIN:VCALENDAR
VERSION:2.0
PRODID:-//time.you/holidays//NONSGML v1.0//EN
BEGIN:VEVENT
UID:7d521549-b32c-417e-97fc-fab8415c3ec3
DTSTAMP:20260424T230230Z
DTSTART;VALUE=DATE:20270321
SUMMARY:Nowruz (Iraq)
END:VEVENT
END:VCALENDAR