BEGIN:VCALENDAR
VERSION:2.0
PRODID:-//time.you/holidays//NONSGML v1.0//EN
BEGIN:VEVENT
UID:5567683f-f726-4c34-b5b3-d9d4d6ed72d3
DTSTAMP:20260420T154748Z
DTSTART;VALUE=DATE:20260825
SUMMARY:Prophet's Birthday (estimated) (Iraq)
END:VEVENT
END:VCALENDAR