BEGIN:VCALENDAR
VERSION:2.0
PRODID:-//time.you/holidays//NONSGML v1.0//EN
BEGIN:VEVENT
UID:c1d3bd03-4a6d-48cc-a49f-87236b8dbd60
DTSTAMP:20260421T153449Z
DTSTART;VALUE=DATE:20250904
SUMMARY:Prophet's Birthday (Iraq)
END:VEVENT
END:VCALENDAR