BEGIN:VCALENDAR
VERSION:2.0
PRODID:-//time.you/holidays//NONSGML v1.0//EN
BEGIN:VEVENT
UID:5fe779a5-556b-4546-b142-374ed4807213
DTSTAMP:20260420T011313Z
DTSTART;VALUE=DATE:20220318
SUMMARY:Day of Remembrance and Recognition (Ireland)
END:VEVENT
END:VCALENDAR