BEGIN:VCALENDAR
VERSION:2.0
PRODID:-//time.you/holidays//NONSGML v1.0//EN
BEGIN:VEVENT
UID:ee17cfd1-45a3-4400-a951-e26d2abc9ccb
DTSTAMP:20260419T234836Z
DTSTART;VALUE=DATE:20260101
SUMMARY:New Year's Day (Ireland)
END:VEVENT
END:VCALENDAR