BEGIN:VCALENDAR
VERSION:2.0
PRODID:-//time.you/holidays//NONSGML v1.0//EN
BEGIN:VEVENT
UID:dcdfd0b6-9b3d-4a0a-99d8-ae701ee216e0
DTSTAMP:20260420T084659Z
DTSTART;VALUE=DATE:20261226
SUMMARY:Boxing Day (Isle of Man)
END:VEVENT
END:VCALENDAR