BEGIN:VCALENDAR
VERSION:2.0
PRODID:-//time.you/holidays//NONSGML v1.0//EN
BEGIN:VEVENT
UID:82215322-c00b-4046-bbe8-9df77f78b339
DTSTAMP:20260420T013830Z
DTSTART;VALUE=DATE:20261225
SUMMARY:Christmas Day (Isle of Man)
END:VEVENT
END:VCALENDAR