BEGIN:VCALENDAR
VERSION:2.0
PRODID:-//time.you/holidays//NONSGML v1.0//EN
BEGIN:VEVENT
UID:b1f5201f-34a4-4565-80ad-b82dd6e0025c
DTSTAMP:20260424T164601Z
DTSTART;VALUE=DATE:20260831
SUMMARY:Late Summer Bank Holiday (Isle of Man)
END:VEVENT
END:VCALENDAR