BEGIN:VCALENDAR
VERSION:2.0
PRODID:-//time.you/holidays//NONSGML v1.0//EN
BEGIN:VEVENT
UID:9c31fcf3-9844-4df7-a42f-906666c97cf8
DTSTAMP:20260424T164825Z
DTSTART;VALUE=DATE:20220603
SUMMARY:Platinum Jubilee of Elizabeth II; TT Bank Holiday (Isle of Man)
END:VEVENT
END:VCALENDAR