BEGIN:VCALENDAR
VERSION:2.0
PRODID:-//time.you/holidays//NONSGML v1.0//EN
BEGIN:VEVENT
UID:1cd982fa-03f2-450b-b40e-f8ce6bc750f4
DTSTAMP:20260421T004711Z
DTSTART;VALUE=DATE:20260422
SUMMARY:Independence Day (Israel)
END:VEVENT
END:VCALENDAR