BEGIN:VCALENDAR
VERSION:2.0
PRODID:-//time.you/holidays//NONSGML v1.0//EN
BEGIN:VEVENT
UID:69139f4b-8bf1-47d3-b8f2-df4d3a34227f
DTSTAMP:20260421T183324Z
DTSTART;VALUE=DATE:20260912
SUMMARY:Rosh Hashanah (Israel)
END:VEVENT
END:VCALENDAR