BEGIN:VCALENDAR
VERSION:2.0
PRODID:-//time.you/holidays//NONSGML v1.0//EN
BEGIN:VEVENT
UID:9ecb350a-4bb5-492c-86fb-ad43ba723754
DTSTAMP:20260420T071830Z
DTSTART;VALUE=DATE:20260408
SUMMARY:Seventh day of Pesach (Israel)
END:VEVENT
END:VCALENDAR