BEGIN:VCALENDAR
VERSION:2.0
PRODID:-//time.you/holidays//NONSGML v1.0//EN
BEGIN:VEVENT
UID:e1bf04f4-1661-4bd7-914e-9aa10df3fc7d
DTSTAMP:20260421T192250Z
DTSTART;VALUE=DATE:20260926
SUMMARY:Sukkot (Israel)
END:VEVENT
END:VCALENDAR