BEGIN:VCALENDAR
VERSION:2.0
PRODID:-//time.you/holidays//NONSGML v1.0//EN
BEGIN:VEVENT
UID:eabe9015-4c6f-4a98-a644-fdb52f8d31f7
DTSTAMP:20260420T130424Z
DTSTART;VALUE=DATE:20260101
SUMMARY:Capodanno (Italy)
END:VEVENT
END:VCALENDAR