BEGIN:VCALENDAR
VERSION:2.0
PRODID:-//time.you/holidays//NONSGML v1.0//EN
BEGIN:VEVENT
UID:c611db01-4a45-428b-8cf5-26048e67cbce
DTSTAMP:20260420T165129Z
DTSTART;VALUE=DATE:20260501
SUMMARY:Festa dei Lavoratori (Italy)
END:VEVENT
END:VCALENDAR