BEGIN:VCALENDAR
VERSION:2.0
PRODID:-//time.you/holidays//NONSGML v1.0//EN
BEGIN:VEVENT
UID:171a0b53-d3bd-4f2f-8adb-1a04496773a3
DTSTAMP:20260420T125828Z
DTSTART;VALUE=DATE:20260425
SUMMARY:Festa della Liberazione (Italy)
END:VEVENT
END:VCALENDAR