BEGIN:VCALENDAR
VERSION:2.0
PRODID:-//time.you/holidays//NONSGML v1.0//EN
BEGIN:VEVENT
UID:6a83eabe-8714-4da3-a817-d94524e4f15f
DTSTAMP:20260421T235435Z
DTSTART;VALUE=DATE:20260322
SUMMARY:Madonna dei Sette Veli (Italy)
END:VEVENT
END:VCALENDAR