BEGIN:VCALENDAR
VERSION:2.0
PRODID:-//time.you/holidays//NONSGML v1.0//EN
BEGIN:VEVENT
UID:83b89966-c77f-4142-9d55-074188ffc14e
DTSTAMP:20260421T154325Z
DTSTART;VALUE=DATE:20260204
SUMMARY:Madonna del Fuoco (Italy)
END:VEVENT
END:VCALENDAR