BEGIN:VCALENDAR
VERSION:2.0
PRODID:-//time.you/holidays//NONSGML v1.0//EN
BEGIN:VEVENT
UID:5641c66c-5982-45cc-8df7-090656ed4987
DTSTAMP:20260421T134055Z
DTSTART;VALUE=DATE:20260702
SUMMARY:Madonna della Bruna (Italy)
END:VEVENT
END:VCALENDAR