BEGIN:VCALENDAR
VERSION:2.0
PRODID:-//time.you/holidays//NONSGML v1.0//EN
BEGIN:VEVENT
UID:5d20ccc0-62af-4b00-8258-279259024dc2
DTSTAMP:20260421T223349Z
DTSTART;VALUE=DATE:20261121
SUMMARY:Madonna della Salute (Italy)
END:VEVENT
END:VCALENDAR