BEGIN:VCALENDAR
VERSION:2.0
PRODID:-//time.you/holidays//NONSGML v1.0//EN
BEGIN:VEVENT
UID:922ce1ea-5241-48e3-ad22-fc98fd80d7aa
DTSTAMP:20260422T012450Z
DTSTART;VALUE=DATE:20260702
SUMMARY:Madonna della Visitazione (Italy)
END:VEVENT
END:VCALENDAR