BEGIN:VCALENDAR
VERSION:2.0
PRODID:-//time.you/holidays//NONSGML v1.0//EN
BEGIN:VEVENT
UID:70161c08-7c73-45ae-9cc4-b3c80bc20d87
DTSTAMP:20260421T205653Z
DTSTART;VALUE=DATE:20260908
SUMMARY:Madonna delle Grazie (Italy)
END:VEVENT
END:VCALENDAR