BEGIN:VCALENDAR
VERSION:2.0
PRODID:-//time.you/holidays//NONSGML v1.0//EN
BEGIN:VEVENT
UID:41aee25a-db87-49a9-8cf4-59492960b642
DTSTAMP:20260421T223430Z
DTSTART;VALUE=DATE:20260908
SUMMARY:Madonna di Monte Berico (Italy)
END:VEVENT
END:VCALENDAR