BEGIN:VCALENDAR
VERSION:2.0
PRODID:-//time.you/holidays//NONSGML v1.0//EN
BEGIN:VEVENT
UID:b5ff5e48-3101-46dd-a025-7c94ad999a8a
DTSTAMP:20260422T070618Z
DTSTART;VALUE=DATE:20260816
SUMMARY:Maria Santissima Assunta (Italy)
END:VEVENT
END:VCALENDAR