BEGIN:VCALENDAR
VERSION:2.0
PRODID:-//time.you/holidays//NONSGML v1.0//EN
BEGIN:VEVENT
UID:8cb37f66-97c6-4bf8-90de-2e9b0ba80c21
DTSTAMP:20260422T130918Z
DTSTART;VALUE=DATE:20260805
SUMMARY:Nostra Signora della Neve (Italy)
END:VEVENT
END:VCALENDAR