BEGIN:VCALENDAR
VERSION:2.0
PRODID:-//time.you/holidays//NONSGML v1.0//EN
BEGIN:VEVENT
UID:6e83a9b0-89c0-4132-adb7-a6f78d117a09
DTSTAMP:20260422T071500Z
DTSTART;VALUE=DATE:20260405
SUMMARY:Pasqua di Resurrezione (Italy)
END:VEVENT
END:VCALENDAR