BEGIN:VCALENDAR
VERSION:2.0
PRODID:-//time.you/holidays//NONSGML v1.0//EN
BEGIN:VEVENT
UID:d1576c87-759a-4e1e-8fe3-75eca691de29
DTSTAMP:20260421T143641Z
DTSTART;VALUE=DATE:20260119
SUMMARY:San Bassiano (Italy)
END:VEVENT
END:VCALENDAR