BEGIN:VCALENDAR
VERSION:2.0
PRODID:-//time.you/holidays//NONSGML v1.0//EN
BEGIN:VEVENT
UID:8a8c5fd0-f15f-49c4-b5d7-741714a7dba1
DTSTAMP:20260425T105948Z
DTSTART;VALUE=DATE:20261110
SUMMARY:San Baudolino (Italy)
END:VEVENT
END:VCALENDAR