BEGIN:VCALENDAR
VERSION:2.0
PRODID:-//time.you/holidays//NONSGML v1.0//EN
BEGIN:VEVENT
UID:48319b2b-8d15-4119-8d93-89e7fbe45065
DTSTAMP:20260421T225909Z
DTSTART;VALUE=DATE:20261126
SUMMARY:San Bellino (Italy)
END:VEVENT
END:VCALENDAR