BEGIN:VCALENDAR
VERSION:2.0
PRODID:-//time.you/holidays//NONSGML v1.0//EN
BEGIN:VEVENT
UID:e8c7dfc7-80d1-4c16-9e48-cf2e05797c6b
DTSTAMP:20260421T143322Z
DTSTART;VALUE=DATE:20260504
SUMMARY:San Ciriaco (Italy)
END:VEVENT
END:VCALENDAR