BEGIN:VCALENDAR
VERSION:2.0
PRODID:-//time.you/holidays//NONSGML v1.0//EN
BEGIN:VEVENT
UID:1c34c97b-e3ad-41c7-8ace-b5311cfa6c14
DTSTAMP:20260421T223557Z
DTSTART;VALUE=DATE:20261009
SUMMARY:San Dionigi (Italy)
END:VEVENT
END:VCALENDAR