BEGIN:VCALENDAR
VERSION:2.0
PRODID:-//time.you/holidays//NONSGML v1.0//EN
BEGIN:VEVENT
UID:71a224e0-f57f-4475-b4e3-0c621cd35d17
DTSTAMP:20260420T090314Z
DTSTART;VALUE=DATE:20260807
SUMMARY:San Donato D'Arezzo (Italy)
END:VEVENT
END:VCALENDAR