BEGIN:VCALENDAR
VERSION:2.0
PRODID:-//time.you/holidays//NONSGML v1.0//EN
BEGIN:VEVENT
UID:6f2549fb-dd88-4ddc-90f2-9d61dd2c09ac
DTSTAMP:20260422T023040Z
DTSTART;VALUE=DATE:20260122
SUMMARY:San Gaudenzio (Italy)
END:VEVENT
END:VCALENDAR